BEGIN:VCALENDAR
PRODID:-//Splash Event Planning System
VERSION:2.0
METHOD:PUBLISH
BEGIN:VEVENT
DTSTAMP:20210914T133617Z
UID:43e398c47373b36746aa3ec42887160a7f91127a@events.sealedai
 r.com/navigatingpallettoparcel
URL:http://events.sealedair.com/navigatingpallettoparcel
DTSTART:20210712T170000Z
DTEND:20210712T200000Z
ORGANIZER;CN="Taylor Brown":mailto:events@sealedair.com
SUMMARY:Navigating the Pallet-to-Parcel Revolution
DESCRIPTION:Here is your unique link - http://events.sealeda
 ir.com/navigatingpallettoparcel\n\nFor the best experience, 
 join this meeting on your desktop
LOCATION:TBD
END:VEVENT
END:VCALENDAR
